BEGIN:VCALENDAR
VERSION:2.0
PRODID:-//wp-events-plugin.com//6.6.4.4//EN
BEGIN:VEVENT
UID:9@mts-triage.net
DTSTART;TZID=Europe/Amsterdam;VALUE=DATE:20230627
DTEND;TZID=Europe/Amsterdam;VALUE=DATE:20230628
DTSTAMP:20230607T075038Z
URL:https://www.mts-triage.net/events/emergency-triage-instructor-drop-in-
 session-3/
SUMMARY:Emergency Triage Instructor Drop in Session
DESCRIPTION:
END:VEVENT
BEGIN:VTIMEZONE
TZID:Europe/Amsterdam
X-LIC-LOCATION:Europe/Amsterdam
BEGIN:DAYLIGHT
DTSTART:20230326T030000
TZOFFSETFROM:+0100
TZOFFSETTO:+0200
TZNAME:CEST
END:DAYLIGHT
END:VTIMEZONE
END:VCALENDAR