BEGIN:VCALENDAR
VERSION:2.0
PRODID:-//wp-events-plugin.com//6.6.4.4//EN
BEGIN:VEVENT
UID:1@mts-triage.net
DTSTART;TZID=Europe/Amsterdam;VALUE=DATE:20221202
DTEND;TZID=Europe/Amsterdam;VALUE=DATE:20221203
DTSTAMP:20221202T203855Z
URL:https://www.mts-triage.net/events/overleg-manchester-triage-groep-nede
 rland/
SUMMARY:Overleg Manchester Triage Groep Nederland
DESCRIPTION:Regulier overleg
END:VEVENT
BEGIN:VEVENT
UID:5@mts-triage.net
DTSTART;TZID=Europe/Amsterdam:20221206T000000
DTEND;TZID=Europe/Amsterdam:20221206T000000
DTSTAMP:20221202T212958Z
URL:https://www.mts-triage.net/events/mtg-emergency-advisery-triage-group/
SUMMARY:MTG Emergency Advisery Triage Group
DESCRIPTION:
END:VEVENT
BEGIN:VEVENT
UID:4@mts-triage.net
DTSTART;TZID=Europe/Amsterdam:20221213T000000
DTEND;TZID=Europe/Amsterdam:20221213T000000
DTSTAMP:20221202T212924Z
URL:https://www.mts-triage.net/events/mtg-emergency-international-referenc
 e-group/
SUMMARY:MTG Emergency International Reference Group
DESCRIPTION:
END:VEVENT
BEGIN:VEVENT
UID:3@mts-triage.net
DTSTART;TZID=Europe/Amsterdam:20230207T000000
DTEND;TZID=Europe/Amsterdam:20230207T000000
DTSTAMP:20221202T212834Z
URL:https://www.mts-triage.net/events/triage-training/
SUMMARY:CWZ Triage training
DESCRIPTION:
END:VEVENT
BEGIN:VEVENT
UID:8@mts-triage.net
DTSTART;TZID=Europe/Amsterdam:20230321T130000
DTEND;TZID=Europe/Amsterdam:20230321T140000
DTSTAMP:20230130T111630Z
URL:https://www.mts-triage.net/events/emergency-triage-instructor-drop-in-
 session-2/
SUMMARY:Emergency Triage Instructor Drop in Session
DESCRIPTION:
END:VEVENT
BEGIN:VEVENT
UID:7@mts-triage.net
DTSTART;TZID=Europe/Amsterdam;VALUE=DATE:20230426
DTEND;TZID=Europe/Amsterdam;VALUE=DATE:20230427
DTSTAMP:20221223T110141Z
URL:https://www.mts-triage.net/events/triage-congres/
SUMMARY:Triage congres
DESCRIPTION:
END:VEVENT
BEGIN:VEVENT
UID:9@mts-triage.net
DTSTART;TZID=Europe/Amsterdam;VALUE=DATE:20230627
DTEND;TZID=Europe/Amsterdam;VALUE=DATE:20230628
DTSTAMP:20230607T075038Z
URL:https://www.mts-triage.net/events/emergency-triage-instructor-drop-in-
 session-3/
SUMMARY:Emergency Triage Instructor Drop in Session
DESCRIPTION:
END:VEVENT
BEGIN:VTIMEZONE
TZID:Europe/Amsterdam
X-LIC-LOCATION:Europe/Amsterdam
BEGIN:STANDARD
DTSTART:20221030T020000
TZOFFSETFROM:+0200
TZOFFSETTO:+0100
TZNAME:CET
END:STANDARD
BEGIN:DAYLIGHT
DTSTART:20230326T030000
TZOFFSETFROM:+0100
TZOFFSETTO:+0200
TZNAME:CEST
END:DAYLIGHT
END:VTIMEZONE
END:VCALENDAR